BEGIN:VCALENDAR
VERSION:2.0
PRODID:-//Culver-Stockton College - ECPv6.15.20//NONSGML v1.0//EN
CALSCALE:GREGORIAN
METHOD:PUBLISH
X-WR-CALNAME:Culver-Stockton College
X-ORIGINAL-URL:https://culver.edu
X-WR-CALDESC:Events for Culver-Stockton College
REFRESH-INTERVAL;VALUE=DURATION:PT1H
X-Robots-Tag:noindex
X-PUBLISHED-TTL:PT1H
BEGIN:VTIMEZONE
TZID:America/Chicago
BEGIN:DAYLIGHT
TZOFFSETFROM:-0600
TZOFFSETTO:-0500
TZNAME:CDT
DTSTART:20250309T080000
END:DAYLIGHT
BEGIN:STANDARD
TZOFFSETFROM:-0500
TZOFFSETTO:-0600
TZNAME:CST
DTSTART:20251102T070000
END:STANDARD
BEGIN:DAYLIGHT
TZOFFSETFROM:-0600
TZOFFSETTO:-0500
TZNAME:CDT
DTSTART:20260308T080000
END:DAYLIGHT
BEGIN:STANDARD
TZOFFSETFROM:-0500
TZOFFSETTO:-0600
TZNAME:CST
DTSTART:20261101T070000
END:STANDARD
BEGIN:DAYLIGHT
TZOFFSETFROM:-0600
TZOFFSETTO:-0500
TZNAME:CDT
DTSTART:20270314T080000
END:DAYLIGHT
BEGIN:STANDARD
TZOFFSETFROM:-0500
TZOFFSETTO:-0600
TZNAME:CST
DTSTART:20271107T070000
END:STANDARD
END:VTIMEZONE
BEGIN:VEVENT
DTSTART;TZID=America/Chicago:20260420T080000
DTEND;TZID=America/Chicago:20260420T080000
DTSTAMP:20260420T061824
CREATED:20260319T042011Z
LAST-MODIFIED:20260409T134137Z
UID:10000440-1776672000-1776672000@culver.edu
SUMMARY:Final Exams for CSC 12wk Classes
DESCRIPTION:
URL:https://culver.edu/event/final-exams-for-csc-12wk-classes-6/
LOCATION:Culver-Stockton College
CATEGORIES:Academic Events
END:VEVENT
BEGIN:VEVENT
DTSTART;TZID=America/Chicago:20260420T170000
DTEND;TZID=America/Chicago:20260420T170000
DTSTAMP:20260420T061824
CREATED:20260319T042011Z
LAST-MODIFIED:20260409T134121Z
UID:10000439-1776704400-1776704400@culver.edu
SUMMARY:Last Day to Drop CSC T4 and G4 Class (W Grade)
DESCRIPTION:
URL:https://culver.edu/event/last-day-to-drop-csc-t4-and-g4-class-w-grade-2/
LOCATION:Culver-Stockton College
CATEGORIES:Academic Events
END:VEVENT
END:VCALENDAR