BEGIN:VCALENDAR
VERSION:2.0
PRODID:-//Culver-Stockton College - ECPv6.15.20//NONSGML v1.0//EN
CALSCALE:GREGORIAN
METHOD:PUBLISH
X-WR-CALNAME:Culver-Stockton College
X-ORIGINAL-URL:https://culver.edu
X-WR-CALDESC:Events for Culver-Stockton College
REFRESH-INTERVAL;VALUE=DURATION:PT1H
X-Robots-Tag:noindex
X-PUBLISHED-TTL:PT1H
BEGIN:VTIMEZONE
TZID:America/Chicago
BEGIN:DAYLIGHT
TZOFFSETFROM:-0600
TZOFFSETTO:-0500
TZNAME:CDT
DTSTART:20250309T080000
END:DAYLIGHT
BEGIN:STANDARD
TZOFFSETFROM:-0500
TZOFFSETTO:-0600
TZNAME:CST
DTSTART:20251102T070000
END:STANDARD
BEGIN:DAYLIGHT
TZOFFSETFROM:-0600
TZOFFSETTO:-0500
TZNAME:CDT
DTSTART:20260308T080000
END:DAYLIGHT
BEGIN:STANDARD
TZOFFSETFROM:-0500
TZOFFSETTO:-0600
TZNAME:CST
DTSTART:20261101T070000
END:STANDARD
BEGIN:DAYLIGHT
TZOFFSETFROM:-0600
TZOFFSETTO:-0500
TZNAME:CDT
DTSTART:20270314T080000
END:DAYLIGHT
BEGIN:STANDARD
TZOFFSETFROM:-0500
TZOFFSETTO:-0600
TZNAME:CST
DTSTART:20271107T070000
END:STANDARD
END:VTIMEZONE
BEGIN:VEVENT
DTSTART;TZID=America/Chicago:20260421T080000
DTEND;TZID=America/Chicago:20260422T235900
DTSTAMP:20260422T040909
CREATED:20260319T042011Z
LAST-MODIFIED:20260409T134104Z
UID:10000438-1776758400-1776902340@culver.edu
SUMMARY:Term Break (NO CSC CLASSES)
DESCRIPTION:
URL:https://culver.edu/event/term-break-no-csc-classes-2/
LOCATION:Culver-Stockton College
CATEGORIES:Academic Events
END:VEVENT
BEGIN:VEVENT
DTSTART;TZID=America/Chicago:20260423T080000
DTEND;TZID=America/Chicago:20260423T080000
DTSTAMP:20260422T040909
CREATED:20260319T042011Z
LAST-MODIFIED:20260409T134029Z
UID:10000436-1776931200-1776931200@culver.edu
SUMMARY:CSC 3wk Classes Begin
DESCRIPTION:
URL:https://culver.edu/event/csc-3wk-classes-begin-2/
LOCATION:Culver-Stockton College
CATEGORIES:Academic Events
END:VEVENT
BEGIN:VEVENT
DTSTART;TZID=America/Chicago:20260423T120000
DTEND;TZID=America/Chicago:20260423T120000
DTSTAMP:20260422T040909
CREATED:20260319T042011Z
LAST-MODIFIED:20260409T133951Z
UID:10000434-1776945600-1776945600@culver.edu
SUMMARY:Final Grades Due for CSC 12wk Classes
DESCRIPTION:
URL:https://culver.edu/event/final-grades-due-for-csc-12wk-classes-2/
LOCATION:Culver-Stockton College
CATEGORIES:Academic Events
END:VEVENT
BEGIN:VEVENT
DTSTART;TZID=America/Chicago:20260423T120000
DTEND;TZID=America/Chicago:20260423T120000
DTSTAMP:20260422T040909
CREATED:20260319T042011Z
LAST-MODIFIED:20260409T134008Z
UID:10000435-1776945600-1776945600@culver.edu
SUMMARY:Final Grades Due for CSC 2nd 6wk Classes
DESCRIPTION:
URL:https://culver.edu/event/final-grades-due-for-csc-2nd-6wk-classes-2/
LOCATION:Culver-Stockton College
CATEGORIES:Academic Events
END:VEVENT
BEGIN:VEVENT
DTSTART;TZID=America/Chicago:20260424T114000
DTEND;TZID=America/Chicago:20260424T123000
DTSTAMP:20260422T040909
CREATED:20260319T042011Z
LAST-MODIFIED:20260409T133930Z
UID:10000433-1777030800-1777033800@culver.edu
SUMMARY:Faculty Research Series-Dr. Lacy Chapel Talk on Sport-Related Concussion Recovery (ACE)
DESCRIPTION:Dr. Chapel will present a talk\, after which she will take questions from the audience.
URL:https://culver.edu/event/faculty-research-series-dr-lacy-chapel-talk-on-sport-related-concussion-recovery-ace-2/
LOCATION:Meaders
CATEGORIES:A.C.E. Events
END:VEVENT
BEGIN:VEVENT
DTSTART;TZID=America/Chicago:20260424T170000
DTEND;TZID=America/Chicago:20260424T170000
DTSTAMP:20260422T040909
CREATED:20260319T042011Z
LAST-MODIFIED:20260409T133903Z
UID:10000432-1777050000-1777050000@culver.edu
SUMMARY:Drop/Add Period Ends for CSC 3wk Classes
DESCRIPTION:
URL:https://culver.edu/event/drop-add-period-ends-for-csc-3wk-classes-2/
LOCATION:Culver-Stockton College
CATEGORIES:Academic Events
END:VEVENT
BEGIN:VEVENT
DTSTART;TZID=America/Chicago:20260425T193000
DTEND;TZID=America/Chicago:20260425T203000
DTSTAMP:20260422T040909
CREATED:20260319T042011Z
LAST-MODIFIED:20260409T133838Z
UID:10000431-1777145400-1777149000@culver.edu
SUMMARY:Jazz Ensemble (ACE)
DESCRIPTION:
URL:https://culver.edu/event/jazz-ensemble-ace-2/
LOCATION:Auditorium
CATEGORIES:A.C.E. Events
END:VEVENT
END:VCALENDAR